BEGIN:VCALENDAR
VERSION:2.0
PRODID:-//SPÖ Bezirksorganisation Freistadt - ECPv6.15.20//NONSGML v1.0//EN
CALSCALE:GREGORIAN
METHOD:PUBLISH
X-ORIGINAL-URL:https://freistadt.spooe.at
X-WR-CALDESC:Veranstaltungen für SPÖ Bezirksorganisation Freistadt
REFRESH-INTERVAL;VALUE=DURATION:PT1H
X-Robots-Tag:noindex
X-PUBLISHED-TTL:PT1H
BEGIN:VTIMEZONE
TZID:Europe/Vienna
BEGIN:DAYLIGHT
TZOFFSETFROM:+0100
TZOFFSETTO:+0200
TZNAME:CEST
DTSTART:20250330T010000
END:DAYLIGHT
BEGIN:STANDARD
TZOFFSETFROM:+0200
TZOFFSETTO:+0100
TZNAME:CET
DTSTART:20251026T010000
END:STANDARD
BEGIN:DAYLIGHT
TZOFFSETFROM:+0100
TZOFFSETTO:+0200
TZNAME:CEST
DTSTART:20260329T010000
END:DAYLIGHT
BEGIN:STANDARD
TZOFFSETFROM:+0200
TZOFFSETTO:+0100
TZNAME:CET
DTSTART:20261025T010000
END:STANDARD
BEGIN:DAYLIGHT
TZOFFSETFROM:+0100
TZOFFSETTO:+0200
TZNAME:CEST
DTSTART:20270328T010000
END:DAYLIGHT
BEGIN:STANDARD
TZOFFSETFROM:+0200
TZOFFSETTO:+0100
TZNAME:CET
DTSTART:20271031T010000
END:STANDARD
END:VTIMEZONE
BEGIN:VEVENT
DTSTART;TZID=Europe/Vienna:20260207T090000
DTEND;TZID=Europe/Vienna:20260207T090000
DTSTAMP:20260424T080017
CREATED:20251119T085523Z
LAST-MODIFIED:20251119T085523Z
UID:4718-1770454800-1770454800@freistadt.spooe.at
SUMMARY:PV Sozialservice-Sprechtag – Frau Hildegard Wögerer
DESCRIPTION:Für alle Fragen in sozialrechtlichen Angelegenheiten. Beratung und Hilfe für Pensions-\, Unfall- und Krankenversicherung\, Pflegegeld\, Lohnsteuer\, Gebührenbefreiung. Terminvereinbarung unter der Nummer: 05/7726-2600
URL:https://freistadt.spooe.at/termin/pv-sozialservice-sprechtag-frau-hildegard-woegerer-106/
LOCATION:SPÖ Bezirkssekretariat Freistadt\, Linzer Str. 8a\, Freistadt\, 4240
END:VEVENT
BEGIN:VEVENT
DTSTART;TZID=Europe/Vienna:20260209T180000
DTEND;TZID=Europe/Vienna:20260209T180000
DTSTAMP:20260424T080017
CREATED:20251217T093627Z
LAST-MODIFIED:20251217T093627Z
UID:4759-1770660000-1770660000@freistadt.spooe.at
SUMMARY:Bezirksvorstands-Sitzung
DESCRIPTION:
URL:https://freistadt.spooe.at/termin/bezirksvorstands-sitzung-3/
END:VEVENT
BEGIN:VEVENT
DTSTART;TZID=Europe/Vienna:20260209T190000
DTEND;TZID=Europe/Vienna:20260209T190000
DTSTAMP:20260424T080017
CREATED:20251217T093724Z
LAST-MODIFIED:20251217T093724Z
UID:4761-1770663600-1770663600@freistadt.spooe.at
SUMMARY:Bezirksausschuss-Sitzung
DESCRIPTION:
URL:https://freistadt.spooe.at/termin/bezirksausschuss-sitzung-49/
END:VEVENT
BEGIN:VEVENT
DTSTART;TZID=Europe/Vienna:20260227T150000
DTEND;TZID=Europe/Vienna:20260227T150000
DTSTAMP:20260424T080017
CREATED:20251217T094834Z
LAST-MODIFIED:20251217T094834Z
UID:4779-1772204400-1772204400@freistadt.spooe.at
SUMMARY:GVV-Bundeskonferenz
DESCRIPTION:
URL:https://freistadt.spooe.at/termin/gvv-bundeskonferenz/
END:VEVENT
END:VCALENDAR