BEGIN:VCALENDAR
VERSION:2.0
PRODID:-//SPÖ Bezirksorganisation Freistadt - ECPv6.15.20//NONSGML v1.0//EN
CALSCALE:GREGORIAN
METHOD:PUBLISH
X-ORIGINAL-URL:https://freistadt.spooe.at
X-WR-CALDESC:Veranstaltungen für SPÖ Bezirksorganisation Freistadt
REFRESH-INTERVAL;VALUE=DURATION:PT1H
X-Robots-Tag:noindex
X-PUBLISHED-TTL:PT1H
BEGIN:VTIMEZONE
TZID:Europe/Vienna
BEGIN:DAYLIGHT
TZOFFSETFROM:+0100
TZOFFSETTO:+0200
TZNAME:CEST
DTSTART:20240331T010000
END:DAYLIGHT
BEGIN:STANDARD
TZOFFSETFROM:+0200
TZOFFSETTO:+0100
TZNAME:CET
DTSTART:20241027T010000
END:STANDARD
BEGIN:DAYLIGHT
TZOFFSETFROM:+0100
TZOFFSETTO:+0200
TZNAME:CEST
DTSTART:20250330T010000
END:DAYLIGHT
BEGIN:STANDARD
TZOFFSETFROM:+0200
TZOFFSETTO:+0100
TZNAME:CET
DTSTART:20251026T010000
END:STANDARD
BEGIN:DAYLIGHT
TZOFFSETFROM:+0100
TZOFFSETTO:+0200
TZNAME:CEST
DTSTART:20260329T010000
END:DAYLIGHT
BEGIN:STANDARD
TZOFFSETFROM:+0200
TZOFFSETTO:+0100
TZNAME:CET
DTSTART:20261025T010000
END:STANDARD
END:VTIMEZONE
BEGIN:VEVENT
DTSTART;TZID=Europe/Vienna:20251108T090000
DTEND;TZID=Europe/Vienna:20251108T170000
DTSTAMP:20260424T175840
CREATED:20250512T094913Z
LAST-MODIFIED:20250512T094913Z
UID:4524-1762592400-1762621200@freistadt.spooe.at
SUMMARY:Bezirksklausur
DESCRIPTION:
URL:https://freistadt.spooe.at/termin/bezirksklausur-3/
END:VEVENT
BEGIN:VEVENT
DTSTART;TZID=Europe/Vienna:20251115T090000
DTEND;TZID=Europe/Vienna:20251115T090000
DTSTAMP:20260424T175840
CREATED:20241021T073658Z
LAST-MODIFIED:20250915T075958Z
UID:4353-1763197200-1763197200@freistadt.spooe.at
SUMMARY:PV Sozialservice-Sprechtag – Frau Hildegard Wögerer
DESCRIPTION:Für alle Fragen in sozialrechtlichen Angelegenheiten. Beratung und Hilfe für Pensions-\, Unfall- und Krankenversicherung\, Pflegegeld\, Lohnsteuer\, Gebührenbefreiung. \nTerminvereinbarung unter der Nummer: 05/7726-2600
URL:https://freistadt.spooe.at/termin/pv-sozialservice-sprechtag-frau-hildegard-woegerer-103/
LOCATION:SPÖ Bezirkssekretariat Freistadt\, Linzer Str. 8a\, Freistadt\, 4240
END:VEVENT
BEGIN:VEVENT
DTSTART;TZID=Europe/Vienna:20251115T093000
DTEND;TZID=Europe/Vienna:20251115T130000
DTSTAMP:20260424T175840
CREATED:20251021T192314Z
LAST-MODIFIED:20251023T090837Z
UID:4668-1763199000-1763211600@freistadt.spooe.at
SUMMARY:Mühl4tler Energy Day mit Martin Winkler
DESCRIPTION:Aus organisatorischen Gründen bitten wir um Anmeldung unter: bezirk.freistadt@spoe.at Tel. 05 / 772626-00
URL:https://freistadt.spooe.at/termin/muehl4tler-energy-day-mit-martin-winkler/
LOCATION:Taurum Freistadt\, Am Stieranger 2\, Freistadt\, 4240
END:VEVENT
END:VCALENDAR